Package: TnT Version: 1.30.0 Command: rm -rf TnT.buildbin-libdir && mkdir TnT.buildbin-libdir && E:\biocbuild\bbs-3.21-bioc\R\bin\R.exe CMD INSTALL --build --library=TnT.buildbin-libdir TnT_1.30.0.tar.gz StartedAt: 2025-08-15 10:29:48 -0400 (Fri, 15 Aug 2025) EndedAt: 2025-08-15 10:30:21 -0400 (Fri, 15 Aug 2025) EllapsedTime: 32.8 seconds RetCode: 0 Status: OK PackageFile: TnT_1.30.0.zip PackageFileSize: 534.2 KiB