Package: TitanCNA Version: 1.46.0 Command: /home/biocbuild/R/R/bin/R CMD build --keep-empty-dirs --no-resave-data TitanCNA StartedAt: 2025-10-14 05:24:48 -0000 (Tue, 14 Oct 2025) EndedAt: 2025-10-14 05:26:42 -0000 (Tue, 14 Oct 2025) EllapsedTime: 114.1 seconds RetCode: 1 Status: ERROR PackageFile: None PackageFileSize: NA