Package: TissueEnrich Version: 1.28.0 Command: E:\biocbuild\bbs-3.21-bioc\R\bin\R.exe CMD INSTALL TissueEnrich StartedAt: 2025-08-14 16:25:08 -0400 (Thu, 14 Aug 2025) EndedAt: 2025-08-14 16:25:47 -0400 (Thu, 14 Aug 2025) EllapsedTime: 38.6 seconds RetCode: 0 Status: OK