Package: TissueEnrich Version: 1.28.0 Command: /Library/Frameworks/R.framework/Resources/bin/R CMD check --install=check:TissueEnrich.install-out.txt --library=/Library/Frameworks/R.framework/Resources/library --no-vignettes --timings TissueEnrich_1.28.0.tar.gz StartedAt: 2025-10-15 15:28:46 -0400 (Wed, 15 Oct 2025) EndedAt: 2025-10-15 15:33:07 -0400 (Wed, 15 Oct 2025) EllapsedTime: 260.1 seconds RetCode: 0 Status: OK CheckDir: TissueEnrich.Rcheck Warnings: 0