Package: TargetSearch Version: 2.10.0 Command: E:\biocbuild\bbs-3.21-bioc\R\bin\R.exe CMD INSTALL TargetSearch StartedAt: 2025-08-14 15:18:52 -0400 (Thu, 14 Aug 2025) EndedAt: 2025-08-14 15:21:00 -0400 (Thu, 14 Aug 2025) EllapsedTime: 127.4 seconds RetCode: 0 Status: OK