Package: TargetSearch Version: 2.10.0 Command: /Library/Frameworks/R.framework/Resources/bin/R CMD build --keep-empty-dirs --no-resave-data TargetSearch StartedAt: 2025-10-13 23:10:27 -0400 (Mon, 13 Oct 2025) EndedAt: 2025-10-13 23:11:43 -0400 (Mon, 13 Oct 2025) EllapsedTime: 75.3 seconds RetCode: 0 Status: OK PackageFile: TargetSearch_2.10.0.tar.gz PackageFileSize: 718.3 KiB