Package: TargetSearch Version: 2.10.0 Command: /Library/Frameworks/R.framework/Resources/bin/R CMD INSTALL TargetSearch StartedAt: 2025-04-21 15:03:05 -0400 (Mon, 21 Apr 2025) EndedAt: 2025-04-21 15:03:31 -0400 (Mon, 21 Apr 2025) EllapsedTime: 25.4 seconds RetCode: 0 Status: OK