Package: TargetSearch Version: 2.10.0 Command: /home/biocbuild/R/R/bin/R CMD INSTALL TargetSearch StartedAt: 2025-10-13 20:12:43 -0000 (Mon, 13 Oct 2025) EndedAt: 2025-10-13 20:13:13 -0000 (Mon, 13 Oct 2025) EllapsedTime: 30.1 seconds RetCode: 0 Status: OK