Package: TargetScore Version: 1.46.0 Command: /home/biocbuild/R/R/bin/R CMD INSTALL TargetScore StartedAt: 2025-10-13 20:15:44 -0000 (Mon, 13 Oct 2025) EndedAt: 2025-10-13 20:15:55 -0000 (Mon, 13 Oct 2025) EllapsedTime: 11.4 seconds RetCode: 0 Status: OK