Package: TVTB Version: 1.34.1 Command: /Library/Frameworks/R.framework/Resources/bin/R CMD check --install=check:TVTB.install-out.txt --library=/Library/Frameworks/R.framework/Resources/library --no-vignettes --timings TVTB_1.34.1.tar.gz StartedAt: 2025-10-15 16:09:06 -0400 (Wed, 15 Oct 2025) EndedAt: 2025-10-15 16:17:07 -0400 (Wed, 15 Oct 2025) EllapsedTime: 480.6 seconds RetCode: 0 Status: OK CheckDir: TVTB.Rcheck Warnings: 0