Package: TVTB Version: 1.34.1 Command: /Library/Frameworks/R.framework/Resources/bin/R CMD build --keep-empty-dirs --no-resave-data TVTB StartedAt: 2025-10-14 11:30:29 -0400 (Tue, 14 Oct 2025) EndedAt: 2025-10-14 11:32:39 -0400 (Tue, 14 Oct 2025) EllapsedTime: 130.1 seconds RetCode: 0 Status: OK PackageFile: TVTB_1.34.1.tar.gz PackageFileSize: 1.45 MiB