Package: TVTB Version: 1.34.1 Command: rm -rf TVTB.buildbin-libdir && mkdir TVTB.buildbin-libdir && /Users/biocbuild/BBS/utils/build-universal.sh TVTB_1.34.1.tar.gz /Library/Frameworks/R.framework/Resources/bin/R TVTB.buildbin-libdir StartedAt: 2025-10-15 20:56:18 -0400 (Wed, 15 Oct 2025) EndedAt: 2025-10-15 20:57:33 -0400 (Wed, 15 Oct 2025) EllapsedTime: 74.5 seconds RetCode: 0 Status: OK PackageFile: TVTB_1.34.1.tgz PackageFileSize: 2.756 MiB