Package: TSCAN Version: 1.46.0 Command: E:\biocbuild\bbs-3.21-bioc\R\bin\R.exe CMD check --no-multiarch --install=check:TSCAN.install-out.txt --library=E:\biocbuild\bbs-3.21-bioc\R\library --no-vignettes --timings TSCAN_1.46.0.tar.gz StartedAt: 2025-08-15 08:04:47 -0400 (Fri, 15 Aug 2025) EndedAt: 2025-08-15 08:09:20 -0400 (Fri, 15 Aug 2025) EllapsedTime: 273.0 seconds RetCode: 0 Status: OK CheckDir: TSCAN.Rcheck Warnings: 0