Package: TSCAN Version: 1.46.0 Command: chmod a+r TSCAN -R && E:\biocbuild\bbs-3.21-bioc\R\bin\R.exe CMD build --keep-empty-dirs --no-resave-data TSCAN StartedAt: 2025-08-14 22:50:21 -0400 (Thu, 14 Aug 2025) EndedAt: 2025-08-14 22:51:26 -0400 (Thu, 14 Aug 2025) EllapsedTime: 64.1 seconds RetCode: 0 Status: OK PackageFile: TSCAN_1.46.0.tar.gz PackageFileSize: 2.678 MiB