Package: TSCAN Version: 1.46.0 Command: rm -rf TSCAN.buildbin-libdir && mkdir TSCAN.buildbin-libdir && E:\biocbuild\bbs-3.21-bioc\R\bin\R.exe CMD INSTALL --build --library=TSCAN.buildbin-libdir TSCAN_1.46.0.tar.gz StartedAt: 2025-08-15 10:32:03 -0400 (Fri, 15 Aug 2025) EndedAt: 2025-08-15 10:32:46 -0400 (Fri, 15 Aug 2025) EllapsedTime: 43.2 seconds RetCode: 0 Status: OK PackageFile: TSCAN_1.46.0.zip PackageFileSize: 2.765 MiB