Package: TSCAN Version: 1.46.0 Command: /home/biocbuild/bbs-3.21-bioc/R/bin/R CMD INSTALL TSCAN StartedAt: 2025-10-15 15:37:46 -0400 (Wed, 15 Oct 2025) EndedAt: 2025-10-15 15:38:13 -0400 (Wed, 15 Oct 2025) EllapsedTime: 27.4 seconds RetCode: 0 Status: OK