Package: TSCAN Version: 1.46.0 Command: /home/biocbuild/bbs-3.21-bioc/R/bin/R CMD check --install=check:TSCAN.install-out.txt --library=/home/biocbuild/bbs-3.21-bioc/R/site-library --timings TSCAN_1.46.0.tar.gz StartedAt: 2025-10-16 04:38:04 -0400 (Thu, 16 Oct 2025) EndedAt: 2025-10-16 04:42:02 -0400 (Thu, 16 Oct 2025) EllapsedTime: 238.4 seconds RetCode: 0 Status: OK CheckDir: TSCAN.Rcheck Warnings: 0