Package: TSCAN Version: 1.46.0 Command: /home/biocbuild/bbs-3.21-bioc/R/bin/R CMD build --keep-empty-dirs --no-resave-data TSCAN StartedAt: 2025-10-15 20:24:26 -0400 (Wed, 15 Oct 2025) EndedAt: 2025-10-15 20:25:11 -0400 (Wed, 15 Oct 2025) EllapsedTime: 45.0 seconds RetCode: 0 Status: OK PackageFile: TSCAN_1.46.0.tar.gz PackageFileSize: 2.679 MiB