Package: TSCAN Version: 1.46.0 Command: /home/biocbuild/R/R/bin/R CMD check --install=check:TSCAN.install-out.txt --library=/home/biocbuild/R/R/site-library --no-vignettes --timings TSCAN_1.46.0.tar.gz StartedAt: 2025-10-10 15:06:18 -0000 (Fri, 10 Oct 2025) EndedAt: 2025-10-10 15:11:27 -0000 (Fri, 10 Oct 2025) EllapsedTime: 308.5 seconds RetCode: 0 Status: OK CheckDir: TSCAN.Rcheck Warnings: 0