Package: TSCAN Version: 1.46.0 Command: /Library/Frameworks/R.framework/Resources/bin/R CMD check --install=check:TSCAN.install-out.txt --library=/Library/Frameworks/R.framework/Resources/library --no-vignettes --timings TSCAN_1.46.0.tar.gz StartedAt: 2025-10-15 16:06:38 -0400 (Wed, 15 Oct 2025) EndedAt: 2025-10-15 16:11:04 -0400 (Wed, 15 Oct 2025) EllapsedTime: 265.9 seconds RetCode: 0 Status: OK CheckDir: TSCAN.Rcheck Warnings: 0