Package: TSAR Version: 1.6.0 Command: /home/biocbuild/R/R/bin/R CMD INSTALL TSAR StartedAt: 2025-10-13 20:20:56 -0000 (Mon, 13 Oct 2025) EndedAt: 2025-10-13 20:21:15 -0000 (Mon, 13 Oct 2025) EllapsedTime: 19.2 seconds RetCode: 0 Status: OK