Package: TRONCO Version: 2.40.1 Command: /Library/Frameworks/R.framework/Resources/bin/R CMD check --install=check:TRONCO.install-out.txt --library=/Library/Frameworks/R.framework/Resources/library --no-vignettes --timings TRONCO_2.40.1.tar.gz StartedAt: 2025-10-14 11:58:11 -0400 (Tue, 14 Oct 2025) EndedAt: 2025-10-14 12:05:28 -0400 (Tue, 14 Oct 2025) EllapsedTime: 436.7 seconds RetCode: 0 Status: OK CheckDir: TRONCO.Rcheck Warnings: 0