Package: TRONCO Version: 2.40.1 Command: rm -rf TRONCO.buildbin-libdir && mkdir TRONCO.buildbin-libdir && /Users/biocbuild/BBS/utils/build-universal.sh TRONCO_2.40.1.tar.gz /Library/Frameworks/R.framework/Resources/bin/R TRONCO.buildbin-libdir StartedAt: 2025-10-14 15:00:30 -0400 (Tue, 14 Oct 2025) EndedAt: 2025-10-14 15:01:13 -0400 (Tue, 14 Oct 2025) EllapsedTime: 42.7 seconds RetCode: 0 Status: OK PackageFile: TRONCO_2.40.1.tgz PackageFileSize: 4.844 MiB