Package: TRONCO Version: 2.40.0 Command: rm -rf TRONCO.buildbin-libdir && mkdir TRONCO.buildbin-libdir && /Users/biocbuild/BBS/utils/build-universal.sh TRONCO_2.40.0.tar.gz /Library/Frameworks/R.framework/Resources/bin/R TRONCO.buildbin-libdir StartedAt: 2025-04-21 22:55:58 -0400 (Mon, 21 Apr 2025) EndedAt: 2025-04-21 22:56:04 -0400 (Mon, 21 Apr 2025) EllapsedTime: 6.2 seconds RetCode: 0 Status: OK PackageFile: TRONCO_2.40.0.tgz PackageFileSize: 4.855 MiB