Package: TREG Version: 1.12.0 Command: /home/biocbuild/R/R/bin/R CMD check --install=check:TREG.install-out.txt --library=/home/biocbuild/R/R/site-library --no-vignettes --timings TREG_1.12.0.tar.gz StartedAt: 2025-10-10 15:02:23 -0000 (Fri, 10 Oct 2025) EndedAt: 2025-10-10 15:06:02 -0000 (Fri, 10 Oct 2025) EllapsedTime: 219.3 seconds RetCode: 0 Status: OK CheckDir: TREG.Rcheck Warnings: 0