Package: TREG Version: 1.12.0 Command: /Library/Frameworks/R.framework/Resources/bin/R CMD INSTALL TREG StartedAt: 2025-10-13 17:00:35 -0400 (Mon, 13 Oct 2025) EndedAt: 2025-10-13 17:01:00 -0400 (Mon, 13 Oct 2025) EllapsedTime: 24.6 seconds RetCode: 0 Status: OK