Package: TREG Version: 1.12.0 Command: rm -rf TREG.buildbin-libdir && mkdir TREG.buildbin-libdir && /Users/biocbuild/BBS/utils/build-universal.sh TREG_1.12.0.tar.gz /Library/Frameworks/R.framework/Resources/bin/R TREG.buildbin-libdir StartedAt: 2025-10-15 20:54:54 -0400 (Wed, 15 Oct 2025) EndedAt: 2025-10-15 20:55:22 -0400 (Wed, 15 Oct 2025) EllapsedTime: 28.1 seconds RetCode: 0 Status: OK PackageFile: TREG_1.12.0.tgz PackageFileSize: 2.66 MiB