Package: TPP Version: 3.36.0 Command: /home/biocbuild/bbs-3.21-bioc/R/bin/R CMD INSTALL TPP StartedAt: 2025-10-01 15:15:33 -0400 (Wed, 01 Oct 2025) EndedAt: 2025-10-01 15:15:48 -0400 (Wed, 01 Oct 2025) EllapsedTime: 15.2 seconds RetCode: 0 Status: OK