Package: TPP Version: 3.36.0 Command: /home/biocbuild/R/R/bin/R CMD check --install=check:TPP.install-out.txt --library=/home/biocbuild/R/R/site-library --no-vignettes --timings TPP_3.36.0.tar.gz StartedAt: 2025-08-19 15:01:23 -0000 (Tue, 19 Aug 2025) EndedAt: 2025-08-19 15:11:49 -0000 (Tue, 19 Aug 2025) EllapsedTime: 625.8 seconds RetCode: 0 Status: OK CheckDir: TPP.Rcheck Warnings: 0