Package: TPP Version: 3.36.0 Command: /home/biocbuild/R/R/bin/R CMD build --keep-empty-dirs --no-resave-data TPP StartedAt: 2025-09-30 05:59:41 -0000 (Tue, 30 Sep 2025) EndedAt: 2025-09-30 06:01:36 -0000 (Tue, 30 Sep 2025) EllapsedTime: 115.0 seconds RetCode: 0 Status: OK PackageFile: TPP_3.36.0.tar.gz PackageFileSize: 8.409 MiB