Package: TPP Version: 3.36.0 Command: /Library/Frameworks/R.framework/Resources/bin/R CMD check --install=check:TPP.install-out.txt --library=/Library/Frameworks/R.framework/Resources/library --no-vignettes --timings TPP_3.36.0.tar.gz StartedAt: 2025-10-04 15:09:42 -0400 (Sat, 04 Oct 2025) EndedAt: 2025-10-04 15:17:57 -0400 (Sat, 04 Oct 2025) EllapsedTime: 494.3 seconds RetCode: 0 Status: OK CheckDir: TPP.Rcheck Warnings: 0