Package: TOP Version: 1.8.0 Command: /home/biocbuild/bbs-3.21-bioc/R/bin/R CMD check --install=check:TOP.install-out.txt --library=/home/biocbuild/bbs-3.21-bioc/R/site-library --timings TOP_1.8.0.tar.gz StartedAt: 2025-10-16 04:28:37 -0400 (Thu, 16 Oct 2025) EndedAt: 2025-10-16 04:33:05 -0400 (Thu, 16 Oct 2025) EllapsedTime: 268.4 seconds RetCode: 0 Status: OK CheckDir: TOP.Rcheck Warnings: 0