Package: TOP Version: 1.8.0 Command: /home/biocbuild/bbs-3.21-bioc/R/bin/R CMD build --keep-empty-dirs --no-resave-data TOP StartedAt: 2025-10-15 20:20:30 -0400 (Wed, 15 Oct 2025) EndedAt: 2025-10-15 20:21:46 -0400 (Wed, 15 Oct 2025) EllapsedTime: 76.1 seconds RetCode: 0 Status: OK PackageFile: TOP_1.8.0.tar.gz PackageFileSize: 485.5 KiB