Package: TOAST Version: 1.22.0 Command: /Library/Frameworks/R.framework/Resources/bin/R CMD INSTALL TOAST StartedAt: 2025-10-13 15:32:55 -0400 (Mon, 13 Oct 2025) EndedAt: 2025-10-13 15:33:51 -0400 (Mon, 13 Oct 2025) EllapsedTime: 56.1 seconds RetCode: 0 Status: OK