Package: TOAST Version: 1.22.0 Command: /Library/Frameworks/R.framework/Resources/bin/R CMD build --keep-empty-dirs --no-resave-data TOAST StartedAt: 2025-10-13 23:17:16 -0400 (Mon, 13 Oct 2025) EndedAt: 2025-10-13 23:23:13 -0400 (Mon, 13 Oct 2025) EllapsedTime: 356.9 seconds RetCode: 0 Status: OK PackageFile: TOAST_1.22.0.tar.gz PackageFileSize: 3.623 MiB