Package: TOAST Version: 1.22.0 Command: rm -rf TOAST.buildbin-libdir && mkdir TOAST.buildbin-libdir && /Users/biocbuild/BBS/utils/build-universal.sh TOAST_1.22.0.tar.gz /Library/Frameworks/R.framework/Resources/bin/R TOAST.buildbin-libdir StartedAt: 2025-10-14 14:58:34 -0400 (Tue, 14 Oct 2025) EndedAt: 2025-10-14 14:59:40 -0400 (Tue, 14 Oct 2025) EllapsedTime: 66.1 seconds RetCode: 0 Status: OK PackageFile: TOAST_1.22.0.tgz PackageFileSize: 3.763 MiB