Package: TMixClust Version: 1.30.0 Command: chmod a+r TMixClust -R && E:\biocbuild\bbs-3.21-bioc\R\bin\R.exe CMD build --keep-empty-dirs --no-resave-data TMixClust StartedAt: 2025-08-14 22:44:42 -0400 (Thu, 14 Aug 2025) EndedAt: 2025-08-14 22:45:41 -0400 (Thu, 14 Aug 2025) EllapsedTime: 59.9 seconds RetCode: 0 Status: OK PackageFile: TMixClust_1.30.0.tar.gz PackageFileSize: 509.9 KiB