Package: TMixClust Version: 1.30.0 Command: rm -rf TMixClust.buildbin-libdir && mkdir TMixClust.buildbin-libdir && E:\biocbuild\bbs-3.21-bioc\R\bin\R.exe CMD INSTALL --build --library=TMixClust.buildbin-libdir TMixClust_1.30.0.tar.gz StartedAt: 2025-08-15 10:29:43 -0400 (Fri, 15 Aug 2025) EndedAt: 2025-08-15 10:30:03 -0400 (Fri, 15 Aug 2025) EllapsedTime: 20.1 seconds RetCode: 0 Status: OK PackageFile: TMixClust_1.30.0.zip PackageFileSize: 747.2 KiB