Package: TMixClust Version: 1.30.0 Command: /Library/Frameworks/R.framework/Resources/bin/R CMD build --keep-empty-dirs --no-resave-data TMixClust StartedAt: 2025-04-21 17:52:59 -0400 (Mon, 21 Apr 2025) EndedAt: 2025-04-21 17:53:11 -0400 (Mon, 21 Apr 2025) EllapsedTime: 12.1 seconds RetCode: 0 Status: OK PackageFile: TMixClust_1.30.0.tar.gz PackageFileSize: 507.7 KiB