Package: TMixClust Version: 1.30.0 Command: rm -rf TMixClust.buildbin-libdir && mkdir TMixClust.buildbin-libdir && /Users/biocbuild/BBS/utils/build-universal.sh TMixClust_1.30.0.tar.gz /Library/Frameworks/R.framework/Resources/bin/R TMixClust.buildbin-libdir StartedAt: 2025-04-21 22:55:27 -0400 (Mon, 21 Apr 2025) EndedAt: 2025-04-21 22:55:30 -0400 (Mon, 21 Apr 2025) EllapsedTime: 3.1 seconds RetCode: 0 Status: OK PackageFile: TMixClust_1.30.0.tgz PackageFileSize: 742.8 KiB