Package: TMSig Version: 1.2.0 Command: /home/biocbuild/bbs-3.21-bioc/R/bin/R CMD check --install=check:TMSig.install-out.txt --library=/home/biocbuild/bbs-3.21-bioc/R/site-library --timings TMSig_1.2.0.tar.gz StartedAt: 2025-10-16 04:27:34 -0400 (Thu, 16 Oct 2025) EndedAt: 2025-10-16 04:30:25 -0400 (Thu, 16 Oct 2025) EllapsedTime: 171.3 seconds RetCode: 0 Status: OK CheckDir: TMSig.Rcheck Warnings: 0