Package: TIN Version: 1.40.0 Command: /home/biocbuild/bbs-3.21-bioc/R/bin/R CMD INSTALL TIN StartedAt: 2025-10-08 15:47:27 -0400 (Wed, 08 Oct 2025) EndedAt: 2025-10-08 15:47:48 -0400 (Wed, 08 Oct 2025) EllapsedTime: 21.5 seconds RetCode: 0 Status: OK