Package: TIN Version: 1.40.0 Command: /home/biocbuild/bbs-3.21-bioc/R/bin/R CMD check --install=check:TIN.install-out.txt --library=/home/biocbuild/bbs-3.21-bioc/R/site-library --timings TIN_1.40.0.tar.gz StartedAt: 2025-10-09 04:17:33 -0400 (Thu, 09 Oct 2025) EndedAt: 2025-10-09 04:21:12 -0400 (Thu, 09 Oct 2025) EllapsedTime: 219.4 seconds RetCode: 0 Status: OK CheckDir: TIN.Rcheck Warnings: 0