Package: TIN Version: 1.40.0 Command: /home/biocbuild/bbs-3.21-bioc/R/bin/R CMD build --keep-empty-dirs --no-resave-data TIN StartedAt: 2025-10-08 20:18:11 -0400 (Wed, 08 Oct 2025) EndedAt: 2025-10-08 20:19:06 -0400 (Wed, 08 Oct 2025) EllapsedTime: 55.1 seconds RetCode: 0 Status: OK PackageFile: TIN_1.40.0.tar.gz PackageFileSize: 4.592 MiB