Package: TIN Version: 1.40.0 Command: /Library/Frameworks/R.framework/Resources/bin/R CMD INSTALL TIN StartedAt: 2025-10-13 16:26:36 -0400 (Mon, 13 Oct 2025) EndedAt: 2025-10-13 16:27:23 -0400 (Mon, 13 Oct 2025) EllapsedTime: 47.1 seconds RetCode: 0 Status: OK