Package: TIN Version: 1.40.0 Command: rm -rf TIN.buildbin-libdir && mkdir TIN.buildbin-libdir && /Users/biocbuild/BBS/utils/build-universal.sh TIN_1.40.0.tar.gz /Library/Frameworks/R.framework/Resources/bin/R TIN.buildbin-libdir StartedAt: 2025-10-04 20:20:28 -0400 (Sat, 04 Oct 2025) EndedAt: 2025-10-04 20:20:57 -0400 (Sat, 04 Oct 2025) EllapsedTime: 28.5 seconds RetCode: 0 Status: OK PackageFile: TIN_1.40.0.tgz PackageFileSize: 4.567 MiB