Package: TFutils Version: 1.28.0 Command: /Library/Frameworks/R.framework/Resources/bin/R CMD INSTALL TFutils StartedAt: 2025-04-21 15:28:40 -0400 (Mon, 21 Apr 2025) EndedAt: 2025-04-21 15:29:02 -0400 (Mon, 21 Apr 2025) EllapsedTime: 22.6 seconds RetCode: 0 Status: OK