Package: TFHAZ Version: 1.30.0 Command: /Library/Frameworks/R.framework/Resources/bin/R CMD build --keep-empty-dirs --no-resave-data TFHAZ StartedAt: 2025-10-13 23:13:10 -0400 (Mon, 13 Oct 2025) EndedAt: 2025-10-13 23:15:55 -0400 (Mon, 13 Oct 2025) EllapsedTime: 165.3 seconds RetCode: 0 Status: OK PackageFile: TFHAZ_1.30.0.tar.gz PackageFileSize: 2.516 MiB