Package: TFHAZ Version: 1.30.0 Command: rm -rf TFHAZ.buildbin-libdir && mkdir TFHAZ.buildbin-libdir && /Users/biocbuild/BBS/utils/build-universal.sh TFHAZ_1.30.0.tar.gz /Library/Frameworks/R.framework/Resources/bin/R TFHAZ.buildbin-libdir StartedAt: 2025-10-15 20:49:51 -0400 (Wed, 15 Oct 2025) EndedAt: 2025-10-15 20:50:47 -0400 (Wed, 15 Oct 2025) EllapsedTime: 56.9 seconds RetCode: 0 Status: OK PackageFile: TFHAZ_1.30.0.tgz PackageFileSize: 3.29 MiB