Package: TFEA.ChIP Version: 1.28.0 Command: /Library/Frameworks/R.framework/Resources/bin/R CMD check --install=check:TFEA.ChIP.install-out.txt --library=/Library/Frameworks/R.framework/Resources/library --no-vignettes --timings TFEA.ChIP_1.28.0.tar.gz StartedAt: 2025-10-14 11:34:16 -0400 (Tue, 14 Oct 2025) EndedAt: 2025-10-14 11:46:44 -0400 (Tue, 14 Oct 2025) EllapsedTime: 747.4 seconds RetCode: 0 Status: OK CheckDir: TFEA.ChIP.Rcheck Warnings: 0